BEGIN:VCALENDAR
VERSION:2.0
PRODID:-//Sölring Museen Sylt - ECPv6.15.20//NONSGML v1.0//EN
CALSCALE:GREGORIAN
METHOD:PUBLISH
X-WR-CALNAME:Sölring Museen Sylt
X-ORIGINAL-URL:https://soelring-museen.de
X-WR-CALDESC:Veranstaltungen für Sölring Museen Sylt
REFRESH-INTERVAL;VALUE=DURATION:PT1H
X-Robots-Tag:noindex
X-PUBLISHED-TTL:PT1H
BEGIN:VTIMEZONE
TZID:Europe/Berlin
BEGIN:DAYLIGHT
TZOFFSETFROM:+0100
TZOFFSETTO:+0200
TZNAME:CEST
DTSTART:20240331T010000
END:DAYLIGHT
BEGIN:STANDARD
TZOFFSETFROM:+0200
TZOFFSETTO:+0100
TZNAME:CET
DTSTART:20241027T010000
END:STANDARD
BEGIN:DAYLIGHT
TZOFFSETFROM:+0100
TZOFFSETTO:+0200
TZNAME:CEST
DTSTART:20250330T010000
END:DAYLIGHT
BEGIN:STANDARD
TZOFFSETFROM:+0200
TZOFFSETTO:+0100
TZNAME:CET
DTSTART:20251026T010000
END:STANDARD
BEGIN:DAYLIGHT
TZOFFSETFROM:+0100
TZOFFSETTO:+0200
TZNAME:CEST
DTSTART:20260329T010000
END:DAYLIGHT
BEGIN:STANDARD
TZOFFSETFROM:+0200
TZOFFSETTO:+0100
TZNAME:CET
DTSTART:20261025T010000
END:STANDARD
END:VTIMEZONE
BEGIN:VEVENT
DTSTART;TZID=Europe/Berlin:20251020T090000
DTEND;TZID=Europe/Berlin:20251020T160000
DTSTAMP:20260420T052104
CREATED:20250808T100553Z
LAST-MODIFIED:20250903T131433Z
UID:7172-1760950800-1760976000@soelring-museen.de
SUMMARY:TalentCAMPus 2025 – Das Sylter Filmstudio
DESCRIPTION:TalentCAMPus 2025 – Das Sylter Filmstudio\nNach einem Jahr Auszeit starten wir wieder mit unserem Sylter Filmstudio\, das im Rahmen des Förderprogramms „Kultur macht STARK“ stattfindet. \nMit einem neuen Konzept wollen wir gemeinsam mit 16 Sylter Jugendlichen und Paula Wehmeyer als Teamleiterin das Treffen der Generationen starten und damit unseren siebten TalentCAMPus realisieren. \n \nIn der Zeit vom 20. Bis 24. Oktober 2025 treffen wir uns täglich von 9 bis 16 Uhr und arbeiten gemeinsam an der Sylter Geschichte. Unser Ziel ist es 4-5 SylterInnen zu treffen und diese jeweils zu einem besonderen Inselthema zu interviewen. Dazu braucht es einiges an Vorarbeit und Recherche. Zugleich dürfen die TeilnehmerInnen die Kamera- und Tonarbeit durchführen und natürlich auch moderieren. \nAm Ende dieses Projektes steht ein Film\, der die Interviews dokumentiert und den wir den wir mit allen Beteiligten und Interessierten anschauen werden. \nDie Teilnahme ist kostenfrei\, auch für die Verpflegung sorgen wir. Bei Interesse melde dich über Holger Bünte unter holger.buente@gmeinde-sylt.de für das Ferienprojekt an. Das Anmeldeformular als pdf zum Download. \nDer TalentCAMPus ist ein Gemeinschaftsprojekt von der VHS Sylt der Gemeinde Sylt  und den Sölring Museen. Finanziert wird die Veranstaltung durch das Bundesministerium für Bildung und Forschung durch das Förderprojekt „Kultur macht STARK. Bündnisse für Bildung“ \nWas: Ferienprojekt für Sylter Jugendliche – „Treffen der Generationen“\nWann: 20. Bis 24. Oktober 2025 jeweils von 9 bis 16 Uhr\nAlter: 10 bis 17 Jahre\nWo: In den Räumen der Lebenshilfe Sylt e.V.\, Bastianstraße 22a\, Westerland\nKosten: kostenfrei inkl. Mittagessen\nVeranstaltet von: Sölring Museen\, Gemeinde Sylt (Jugendpflege)\, VHS Sylt\nAnmeldung: Das Anmeldeformular als pdf zum Download.
URL:https://soelring-museen.de/termin/talentcampus-2025-das-sylter-filmstudio/
CATEGORIES:Workshop
ATTACH;FMTTYPE=image/jpeg:https://soelring-museen.de/wp-content/uploads/2025/08/filmprojekt-25-jugendliche.jpg
END:VEVENT
END:VCALENDAR