BEGIN:VCALENDAR
VERSION:2.0
PRODID:-//Sölring Museen Sylt - ECPv6.15.20//NONSGML v1.0//EN
CALSCALE:GREGORIAN
METHOD:PUBLISH
X-ORIGINAL-URL:https://soelring-museen.de
X-WR-CALDESC:Veranstaltungen für Sölring Museen Sylt
REFRESH-INTERVAL;VALUE=DURATION:PT1H
X-Robots-Tag:noindex
X-PUBLISHED-TTL:PT1H
BEGIN:VTIMEZONE
TZID:Europe/Berlin
BEGIN:DAYLIGHT
TZOFFSETFROM:+0100
TZOFFSETTO:+0200
TZNAME:CEST
DTSTART:20250330T010000
END:DAYLIGHT
BEGIN:STANDARD
TZOFFSETFROM:+0200
TZOFFSETTO:+0100
TZNAME:CET
DTSTART:20251026T010000
END:STANDARD
BEGIN:DAYLIGHT
TZOFFSETFROM:+0100
TZOFFSETTO:+0200
TZNAME:CEST
DTSTART:20260329T010000
END:DAYLIGHT
BEGIN:STANDARD
TZOFFSETFROM:+0200
TZOFFSETTO:+0100
TZNAME:CET
DTSTART:20261025T010000
END:STANDARD
BEGIN:DAYLIGHT
TZOFFSETFROM:+0100
TZOFFSETTO:+0200
TZNAME:CEST
DTSTART:20270328T010000
END:DAYLIGHT
BEGIN:STANDARD
TZOFFSETFROM:+0200
TZOFFSETTO:+0100
TZNAME:CET
DTSTART:20271031T010000
END:STANDARD
END:VTIMEZONE
BEGIN:VEVENT
DTSTART;VALUE=DATE:20260319
DTEND;VALUE=DATE:20260615
DTSTAMP:20260419T152234
CREATED:20260410T095248Z
LAST-MODIFIED:20260410T095615Z
UID:7771-1773878400-1781481599@soelring-museen.de
SUMMARY:Sonderausstellung "Wolkenstudien und Küstenlandschaften"
DESCRIPTION:Bis zum 14. Juni ist im Sylt Museum die Sonderausstellung „Wolkenstudien und Küstenlandschaften. Freilichtmalerei der Düsseldorfer Malerschule des späten 19. Jahrhunderts auf Sylt“ zu sehen.\nSylt und seine im 19. Jahrhundert noch weitgehend urtümliche Naturlandschaft hatten auch die Maler der Düsseldorfer Malerschule\, die in den Ateliers an der Kunstakademie studiert hatten\, im Blick. Die aufkommende Bewegung der Freilichtmalerei des 19. Jahrhunderts erhielt durch Kunstschulen wie die einflussreiche Düsseldorfer Kunstakademie Auftrieb. Für die Kunstgeschichte der Insel Sylt spielt die Düsseldorfer Malerschule ab den 1870er-Jahren eine entscheidende Rolle.\nDie Ausstellung „Wolkenstudien und Küstenlandschaften“ konzentriert sich auf die spätere Künstler-Generation der Düsseldorfer Malerschule\, die sich hauptsächlich um Eugen Dücker (1841–1916) gruppierte\, für den 1870 sieben Aufenthalte auf Sylt nachgewiesen sind. Der Ausstellung voraus ging ein Seminar von Prof. Dr. Martina Sitt am kunsthistorischen Institut der Universität Kassel\, in dem sich Studierende mit ausgewählten Malern beschäftigten\, die ihre Lehrjahre an der Düsseldorfer Akademie verbrachten und beeinflusst von der Lehre die Küstenlandschaften aufsuchten. \nAusstellungsflyer als Download\nZur Ausstellung erscheint eine Begleitbroschüre\, die im Museumsshop erhältlich ist.
URL:https://soelring-museen.de/termin/sonderausstellung-wolkenstudien_kuestenlandschaften-sylt_museum/
LOCATION:Sylt Museum\, Am Kliff 19\, Sylt | Keitum\, 25980\, Deutschland
CATEGORIES:Ausstellungen
ATTACH;FMTTYPE=image/jpeg:https://soelring-museen.de/wp-content/uploads/2026/01/0404_Jernberg_Olof_Krabbenfischer.jpg
ORGANIZER;CN="S%C3%B6lring Museen":MAILTO:info@soelring-museen.de
END:VEVENT
BEGIN:VEVENT
DTSTART;TZID=Europe/Berlin:20260604T193000
DTEND;TZID=Europe/Berlin:20260604T203000
DTSTAMP:20260419T152234
CREATED:20260113T163127Z
LAST-MODIFIED:20260113T163127Z
UID:7567-1780601400-1780605000@soelring-museen.de
SUMMARY:Auf die Tube gedrückt. Wie neue Farben den Blick aufs Meer veränderten
DESCRIPTION:Auf die Tube gedrückt. Wie neue Farben den Blick aufs Meer veränderten\nProf. Dr. Martina Sitt \nVortragsreihe Freundeskreis Sölring Museen | Flyer zur Vortragsreihe Freundeskreis Sölring Museen \nDATUM 04.06. 19:30 – 21:00 Uhr\nKOSTEN Erwachsene 10 Euro | Mitglieder der Sölring Foriining erhalten ermäßigten Eintritt (5 Euro/Person) | Mitglieder des Freundeskreis Sölring Museen erhalten freien Eintritt.\nVeranstaltungsort: Sylt Museum\, Am Kliff 19a\, 25980 Sylt / Keitum\nAnmeldung Karten gibt es im Vorverkauf | Restkarten an der Abendkasse\nInformationen freundeskreis@soelringmuseen.de
URL:https://soelring-museen.de/termin/duema-farben-sitt-4-6-26/
LOCATION:Sylt Museum\, Am Kliff 19\, Sylt | Keitum\, 25980\, Deutschland
CATEGORIES:Vortrag
ATTACH;FMTTYPE=image/jpeg:https://soelring-museen.de/wp-content/uploads/2026/01/fksm_logo_rz.jpg
END:VEVENT
BEGIN:VEVENT
DTSTART;TZID=Europe/Berlin:20260609T160000
DTEND;TZID=Europe/Berlin:20260609T170000
DTSTAMP:20260419T152234
CREATED:20260325T132423Z
LAST-MODIFIED:20260325T132423Z
UID:7763-1781020800-1781024400@soelring-museen.de
SUMMARY:Öffentliche Führung durch das Altfriesische Haus seit 1640
DESCRIPTION:Öffentliche Führung durch das Altfriesische Haus seit 1640\nBilegger\, Klober\, Kellerkammer – ein Keitumer Kapitänshaus\nDas Altfriesische Haus am Keitumer Watt trotzt seit Jahrhunderten Wind und Wetter. Nur noch selten lassen sich die historischen Sylter Kapitänshäuser auch von Innen betrachten. Wie lebten die Sylter im 18. und 19. Jahrhundert? Was ist so besonders am uthlandfriesischen Haustyp und wann wurde der Pesel – die gute Wohnstube – eigentlich genutzt? \nDie Antworten darauf können Sie am 9. Juni um 16 Uhr mit dem Museumsleiter der Sölring Museen finden. Dann lädt Museumsleiter Alexander Römer alle Neugierigen zur einstündigen Führung in das Museum ein und berichtet darüber\, wie es sich damals lebte und was die Besonderheiten des 280 Jahre alten Hauses sind. Ausreichend Raum für die ein oder andere Frage zur einstigen Sylter Wohnkultur wird sich ebenfalls ergeben. \nDATUM 9. Juni 2026 um 16.00 Uhr\nKOSTEN Eintritt zzgl. 3 Euro Führungsgebühr.\nTREFFPUNKT/ORT Altfriesisches Haus\nANMELDUNG unbedingt erforderlich: Karten online im Vorverkauf erwerben
URL:https://soelring-museen.de/termin/oeffentliche-fuehrung-altfriesische-haus-9-6/
LOCATION:Altfriesisches Haus seit 1640\, Am Kliff 13\, 25980 Sylt | Keitum\, 25980\, Deutschland
CATEGORIES:Führung
ATTACH;FMTTYPE=image/jpeg:https://soelring-museen.de/wp-content/uploads/2025/06/altfriesisches-haus-pesel.jpg
END:VEVENT
END:VCALENDAR