BEGIN:VCALENDAR
VERSION:2.0
PRODID:-//Sölring Museen Sylt - ECPv6.15.20//NONSGML v1.0//EN
CALSCALE:GREGORIAN
METHOD:PUBLISH
X-WR-CALNAME:Sölring Museen Sylt
X-ORIGINAL-URL:https://soelring-museen.de
X-WR-CALDESC:Veranstaltungen für Sölring Museen Sylt
REFRESH-INTERVAL;VALUE=DURATION:PT1H
X-Robots-Tag:noindex
X-PUBLISHED-TTL:PT1H
BEGIN:VTIMEZONE
TZID:Europe/Berlin
BEGIN:DAYLIGHT
TZOFFSETFROM:+0100
TZOFFSETTO:+0200
TZNAME:CEST
DTSTART:20240331T010000
END:DAYLIGHT
BEGIN:STANDARD
TZOFFSETFROM:+0200
TZOFFSETTO:+0100
TZNAME:CET
DTSTART:20241027T010000
END:STANDARD
BEGIN:DAYLIGHT
TZOFFSETFROM:+0100
TZOFFSETTO:+0200
TZNAME:CEST
DTSTART:20250330T010000
END:DAYLIGHT
BEGIN:STANDARD
TZOFFSETFROM:+0200
TZOFFSETTO:+0100
TZNAME:CET
DTSTART:20251026T010000
END:STANDARD
BEGIN:DAYLIGHT
TZOFFSETFROM:+0100
TZOFFSETTO:+0200
TZNAME:CEST
DTSTART:20260329T010000
END:DAYLIGHT
BEGIN:STANDARD
TZOFFSETFROM:+0200
TZOFFSETTO:+0100
TZNAME:CET
DTSTART:20261025T010000
END:STANDARD
END:VTIMEZONE
BEGIN:VEVENT
DTSTART;TZID=Europe/Berlin:20251124T143000
DTEND;TZID=Europe/Berlin:20251124T153000
DTSTAMP:20260419T200819
CREATED:20250409T075300Z
LAST-MODIFIED:20251118T141106Z
UID:5571-1763994600-1763998200@soelring-museen.de
SUMMARY:Kranzbinden für den Sylter Jöölboom
DESCRIPTION:Kranzbinden für den Jöölboom\nDer Kulturausschuss der Sölring Foriining e.V. bietet auch dieses Jahr im Sylt Museum wieder ein Kranzbinden für den Jöölboom an.\nWer sich unter Anleitung seinen eigenen Kranz binden möchte\, meldet sich unter 04651/32805 oder info@soelring-foriining.de an.\nZur Auswahl stehen die Termine am 24.11. (14:30 Uhr) und am 25.11. (14:30 und 17:00 Uhr).\nDie Materialien werden gestellt\, ein Unkostenbeitrag von 35\,- Euro wird erhoben.\nGestelle und Figuren können bei Bedarf bei der Anmeldung zum Kranzbinden bestellt werden. \nDATUM Zur Auswahl stehen die Termine am 24.11. (14:30 Uhr) und am 25.11. (14:30 und 17:00 Uhr).\nKOSTEN ein Unkostenbeitrag von 35\,- Euro wird erhoben\, die Materialien werden gestellt\, \nGestelle und Figuren können bei Bedarf bei der Anmeldung zum Kranzbinden bestellt werden.\nOrt Museum Sylt siehe Anfahrt\nAnmeldung 04651/32805 oder info@soelring-foriining.de
URL:https://soelring-museen.de/termin/kranzbinden-fuer-den-sylter-joeoelboom/
LOCATION:Sylt Museum\, Am Kliff 19\, Sylt | Keitum\, 25980\, Deutschland
CATEGORIES:Workshop
ATTACH;FMTTYPE=image/jpeg:https://soelring-museen.de/wp-content/uploads/2025/04/5571_image_jooelboom-sf-scaled-e1736874092846.jpg
END:VEVENT
BEGIN:VEVENT
DTSTART;TZID=Europe/Berlin:20251124T143000
DTEND;TZID=Europe/Berlin:20251124T180000
DTSTAMP:20260419T200819
CREATED:20250409T075303Z
LAST-MODIFIED:20251118T141021Z
UID:5574-1763994600-1764007200@soelring-museen.de
SUMMARY:Kranzbinden für den Sylter Jöölboom
DESCRIPTION:Kranzbinden für den Jöölboom\nDer Kulturausschuss der Sölring Foriining e.V. bietet auch dieses Jahr im Sylt Museum wieder ein Kranzbinden für den Jöölboom an.Wer sich unter Anleitung seinen eigenen Kranz binden möchte\, meldet sich unter 04651/32805 oder info@soelring-foriining.de an. \nDATUM Zur Auswahl stehen die Termine am 24.11. (14:30 Uhr) und am 25.11. (14:30 und 17:00 Uhr).KOSTEN ein Unkostenbeitrag von 35\,- Euro wird erhoben\, die Materialien werden gestellt\, Gestelle und Figuren können bei Bedarf bei der Anmeldung zum Kranzbinden bestellt werden.Ort Museum Sylt siehe AnfahrtAnmeldung 04651/32805 oder info@soelring-foriining.de
URL:https://soelring-museen.de/termin/kranzbinden-fuer-den-sylter-joeoelboom-3/
CATEGORIES:Workshop
ATTACH;FMTTYPE=image/jpeg:https://soelring-museen.de/wp-content/uploads/2025/04/5571_image_jooelboom-sf-scaled-e1736874092846.jpg
END:VEVENT
BEGIN:VEVENT
DTSTART;TZID=Europe/Berlin:20251125T143000
DTEND;TZID=Europe/Berlin:20251125T153000
DTSTAMP:20260419T200819
CREATED:20250409T075303Z
LAST-MODIFIED:20251118T140912Z
UID:5573-1764081000-1764084600@soelring-museen.de
SUMMARY:Kranzbinden für den Sylter Jöölboom
DESCRIPTION:Kranzbinden für den Jöölboom\nDer Kulturausschuss der Sölring Foriining e.V. bietet auch dieses Jahr im Sylt Museum wieder ein Kranzbinden für den Jöölboom an.\nWer sich unter Anleitung seinen eigenen Kranz binden möchte\, meldet sich unter 04651/32805 oder info@soelring-foriining.de an.\nZur Auswahl stehen die Termine am 24.11. (14:30 Uhr) und am 25.11. (14:30 und 17:00 Uhr).\nDie Materialien werden gestellt\, ein Unkostenbeitrag von 35\,- Euro wird erhoben.\nGestelle und Figuren können bei Bedarf bei der Anmeldung zum Kranzbinden bestellt werden. \nDATUM Zur Auswahl stehen die Termine am 24.11. (14:30 Uhr) und am 25.11. (14:30 und 17:00 Uhr).\nKOSTEN ein Unkostenbeitrag von 35\,- Euro wird erhoben\, die Materialien werden gestellt\, \nGestelle und Figuren können bei Bedarf bei der Anmeldung zum Kranzbinden bestellt werden.\nOrt Museum Sylt siehe Anfahrt\nAnmeldung 04651/32805 oder info@soelring-foriining.de
URL:https://soelring-museen.de/termin/kranzbinden-fuer-den-sylter-joeoelboom-2/
CATEGORIES:Workshop
ATTACH;FMTTYPE=image/jpeg:https://soelring-museen.de/wp-content/uploads/2025/04/5571_image_jooelboom-sf-scaled-e1736874092846.jpg
END:VEVENT
END:VCALENDAR