BEGIN:VCALENDAR
VERSION:2.0
PRODID:-//Sölring Museen Sylt - ECPv6.15.20//NONSGML v1.0//EN
CALSCALE:GREGORIAN
METHOD:PUBLISH
X-ORIGINAL-URL:https://soelring-museen.de
X-WR-CALDESC:Veranstaltungen für Sölring Museen Sylt
REFRESH-INTERVAL;VALUE=DURATION:PT1H
X-Robots-Tag:noindex
X-PUBLISHED-TTL:PT1H
BEGIN:VTIMEZONE
TZID:Europe/Berlin
BEGIN:DAYLIGHT
TZOFFSETFROM:+0100
TZOFFSETTO:+0200
TZNAME:CEST
DTSTART:20240331T010000
END:DAYLIGHT
BEGIN:STANDARD
TZOFFSETFROM:+0200
TZOFFSETTO:+0100
TZNAME:CET
DTSTART:20241027T010000
END:STANDARD
BEGIN:DAYLIGHT
TZOFFSETFROM:+0100
TZOFFSETTO:+0200
TZNAME:CEST
DTSTART:20250330T010000
END:DAYLIGHT
BEGIN:STANDARD
TZOFFSETFROM:+0200
TZOFFSETTO:+0100
TZNAME:CET
DTSTART:20251026T010000
END:STANDARD
BEGIN:DAYLIGHT
TZOFFSETFROM:+0100
TZOFFSETTO:+0200
TZNAME:CEST
DTSTART:20260329T010000
END:DAYLIGHT
BEGIN:STANDARD
TZOFFSETFROM:+0200
TZOFFSETTO:+0100
TZNAME:CET
DTSTART:20261025T010000
END:STANDARD
END:VTIMEZONE
BEGIN:VEVENT
DTSTART;TZID=Europe/Berlin:20251002T200000
DTEND;TZID=Europe/Berlin:20251002T210000
DTSTAMP:20260419T214752
CREATED:20250922T141058Z
LAST-MODIFIED:20250922T145210Z
UID:7357-1759435200-1759438800@soelring-museen.de
SUMMARY:Zweite Lange Nacht der Demokratie auf Sylt
DESCRIPTION:Die zweite lange Nacht der Demokratie in Schleswig-Holstein am 2. Oktober 2025\nAm 2. Oktober 2025 wird zum zweiten Mal die „Langen Nacht der Demokratie“ in Schleswig-Holstein stattfinden. Die Lange Nacht der Demokratie ermöglicht Inspiration\, Begegnung sowie Reflexion zur Bedeutung von Demokratie. In der Nacht vor dem Tag der Deutschen Einheit wird in vielfältigsten Formaten über Demokratie philosophiert\, diskutiert\, gestritten und geslammt\, Musik und Kultur genossen\, gelacht und gefeiert. der ein informatives und spannendes Programm. \nDie Sölring Museen unterstützen um 20 Uhr die Führung von Silke von Bremen „Auf den Spuren des Dritten Reiches in Westerland“ mit anschließender Filmvorführung und laden zur Teilnahme zu den verschiedenen Programmpunkten ein. Mehr Informationen zum gesamten Programm in Westerland und zum Programmbeitrag in der Akademie am Meer\, Klappholttal. \nZum geführten Rundgang: Nein zum Faschismus\, ja zur Demokratie. Demokratie lebt von Erinnerung und Erinnerung beginnt oft genau dort\, wo wir täglich vorbeigehen. Wie präsent ist die Vergangenheit im heutigen Stadtbild? Bei diesem geführten Rundgang durch Westerland begeben wir uns auf Spurensuche: Welche Orte sind mit der Zeit des Nationalsozialismus verbunden? Welche Geschichten verbergen sich hinter Gebäuden oder scheinbar unscheinbaren Straßen?\nGemeinsam werfen wir einen Blick auf lokale Ereignisse\, Täter\, Mitläufer – aber auch auf Widerstand und Zivilcourage.Der Rundgang lädt dazu ein\, Geschichte greifbar zu machen\, Fragen zu stellen und im öffentlichen Raum sichtbar zu machen\, was oft übersehen wird.\nAuch inkludiert dieser Rundgang durch Westerland eine Filmvorführung: Urlaub auf Sylt (DDR 1957\, Regie: Annelie und Andrew Thorndike).\nEin überraschender Blick auf Sylt aus ostdeutscher Perspektive: Der DEFA-Dokumentarfilm „Urlaub auf Sylt“ wirft 1957 einen kritischen Blick auf den Tourismus\, das Gesellschaftsbild – und die mangelnde Auseinandersetzung mit der NS-Vergangenheit im Westen Deutschlands. Die Thorndikes zeigen in ihrem Werk nicht nur Strandkörbe und Ferienidylle\, sondern auch die Schatten der Geschichte: alte Seilschaften\, verdrängte Verantwortung und wirtschaftliche Kontinuitäten aus der Zeit des Nationalsozialismus. Ein Film\, der heute aktueller ist denn je. \nAuf Sylt werden im Rahmen der Langen Nacht der Demokratie\, in Westerland rund ums Rathaus von 16.00 Uhr bis 21.00 Uhr verschiedene Veranstaltungen stattfinden. \nLandesweit finden in über 35 Städten und Kommunen Veranstaltungen statt – von Flensburg bis Wedel\, von Sylt bis Timmendorfer Strand. Verschiedene Volkshochschulen\, Träger der politischen Bildung und ehrenamtliche Vereine führen die vielfältigen Veranstaltungen durch und erwarten viele interessierte Gäste. Alle Veranstaltungen sind unter www.lndd.sh zu finden. Soweit nicht anders angegeben\, sind alle Veranstaltungen kostenfrei und bedürfen keiner Anmeldung. \n 
URL:https://soelring-museen.de/termin/lange-nacht-der-demokratie-auf-sylt/
LOCATION:Rathaus Westerland\, Andreas-Nielsen-Straße 1\, Sylt / Westerland\, 25980
CATEGORIES:Führung
ATTACH;FMTTYPE=image/jpeg:https://soelring-museen.de/wp-content/uploads/2025/09/2025-10-lndd-svb.jpg
END:VEVENT
BEGIN:VEVENT
DTSTART;TZID=Europe/Berlin:20251010T170000
DTEND;TZID=Europe/Berlin:20251010T193000
DTSTAMP:20260419T214752
CREATED:20250409T075559Z
LAST-MODIFIED:20251005T090427Z
UID:5583-1760115600-1760124600@soelring-museen.de
SUMMARY:Workshop Salzteigfiguren herstellen für den Jöölboom
DESCRIPTION:Workshop Salzteigfiguren herstellen für den Jöölboom\nZeit spenden und in netter Runde sich mit dem Sylter Kulturgut beschäftigen – Wollen Sie für drei Stunden mitwirken und etwas Gutes tun? Der Kulturausschuss des Sylter Kultur- und Heimatvereins Sölring Foriining bietet auch in diesem Jahr wieder einen Workshop an\, in dem die Salzteigfiguren für den Jöölboom hergestellt werden und dazu benötigt er ihre Hilfe! Alle Interessierte sind herzlich eingeladen\, gemeinsam in netter Runde an der Herstellung der Figurensätze für die Sölring Foriining mitzuwirken. Für die vielen einzelnen Schritte wie Teig ausrollen\, Formen ausstechen bis hin zum Modellieren der einzelnen Figuren benötigt es begeisterte Mitmacher\, die sich für das besondere Sylter Kulturgut interessieren und die Arbeit des Sylter Kultur- und Heimatvereins unterstützen wollen. Die Figuren verbleiben als Spende bei der Sölring Foriining.\nDer traditionelle friesische Jöölboom leuchtet in der Adventszeit in den Sylter Stuben und gehört zur vorweihnachtlichen Tradition als Zeugnis alter Überlieferung. Als Adventssymbol ist der Weihnachtsbogen wesentlich älter als der Nadelkranz mit seinen vier Kerzenlichtern\, der in dem stimmungsvollen Wintermonat landauf\, landab das christliche Haus schmückt. Dieser Friesenbaum besteht aus einem Holzgestell\, einem Kranz aus grünen Zweigen und den Figuren\, die jeweils ein Pferd\, Hund\, Hahn und den Baum der Erkenntnis mit Adam und Eva sowie der Schlange abbilden. Bei den Symbolen handelt es sich u.a. um Sinnbilder für Kraft und Schnelligkeit\, Wachsamkeit\, Fruchtbarkeit und Treue. Der Jöölboom auf Sylt vermischt heidnisches und religiöses Brauchtum. Er ist Relikt aus einer Vergangenheit\, in der Nadelbäume auf den nordfriesischen Inseln und Halligen unbekannt waren oder durch die räumliche Entfernung zum Festland und die winterlichen Witterungseinflüsse keinen Zugang auf die Eilande fanden. \nDATUM Freitag\, 10 .Oktober 2025 um 17:00 Uhr in der Boy-Lornsen Schule\, Tinnum.\nKOSTEN Die Teilnahme ist kostenfrei\nTREFFPUNKT/ORT\nANMELDUNG  Eine Anmeldung ist erforderlich. Kontakt: Bärbel Ruff: 0171/1952997 \n 
URL:https://soelring-museen.de/termin/workshop-salzteigfiguren-herstellen-fuer-den-joeoelboom-10-10-25/
LOCATION:Boy-Lornsen Schule\, Tinnum\, Deutschland
CATEGORIES:Workshop
ATTACH;FMTTYPE=image/jpeg:https://soelring-museen.de/wp-content/uploads/2025/04/5569_image_salzteigfiguren-joeoelboom-soelring-foriining_II-scaled-1.jpg
END:VEVENT
BEGIN:VEVENT
DTSTART;TZID=Europe/Berlin:20251011T170000
DTEND;TZID=Europe/Berlin:20251011T193000
DTSTAMP:20260419T214753
CREATED:20250409T075256Z
LAST-MODIFIED:20251005T090458Z
UID:5569-1760202000-1760211000@soelring-museen.de
SUMMARY:Workshop Salzteigfiguren herstellen für den Jöölboom
DESCRIPTION:Workshop Salzteigfiguren herstellen für den Jöölboom\nZeit spenden und in netter Runde sich mit dem Sylter Kulturgut beschäftigen – Wollen Sie für drei Stunden mitwirken und etwas Gutes tun? Der Kulturausschuss des Sylter Kultur- und Heimatvereins Sölring Foriining bietet auch in diesem Jahr wieder einen Workshop an\, in dem die Salzteigfiguren für den Jöölboom hergestellt werden und dazu benötigt er ihre Hilfe! Alle Interessierte sind herzlich eingeladen\, gemeinsam in netter Runde an der Herstellung der Figurensätze für die Sölring Foriining mitzuwirken. Für die vielen einzelnen Schritte wie Teig ausrollen\, Formen ausstechen bis hin zum Modellieren der einzelnen Figuren benötigt es begeisterte Mitmacher\, die sich für das besondere Sylter Kulturgut interessieren und die Arbeit des Sylter Kultur- und Heimatvereins unterstützen wollen. Die Figuren verbleiben als Spende bei der Sölring Foriining.\nDer traditionelle friesische Jöölboom leuchtet in der Adventszeit in den Sylter Stuben und gehört zur vorweihnachtlichen Tradition als Zeugnis alter Überlieferung. Als Adventssymbol ist der Weihnachtsbogen wesentlich älter als der Nadelkranz mit seinen vier Kerzenlichtern\, der in dem stimmungsvollen Wintermonat landauf\, landab das christliche Haus schmückt. Dieser Friesenbaum besteht aus einem Holzgestell\, einem Kranz aus grünen Zweigen und den Figuren\, die jeweils ein Pferd\, Hund\, Hahn und den Baum der Erkenntnis mit Adam und Eva sowie der Schlange abbilden. Bei den Symbolen handelt es sich u.a. um Sinnbilder für Kraft und Schnelligkeit\, Wachsamkeit\, Fruchtbarkeit und Treue. Der Jöölboom auf Sylt vermischt heidnisches und religiöses Brauchtum. Er ist Relikt aus einer Vergangenheit\, in der Nadelbäume auf den nordfriesischen Inseln und Halligen unbekannt waren oder durch die räumliche Entfernung zum Festland und die winterlichen Witterungseinflüsse keinen Zugang auf die Eilande fanden. \nDATUM Freitag\, 11 .Oktober 2025 um 17:00 Uhr in der Boy-Lornsen Schule\, Tinnum.\nKOSTEN Die Teilnahme ist kostenfrei\nTREFFPUNKT/ORT\nANMELDUNG  Eine Anmeldung ist erforderlich. Kontakt: Bärbel Ruff: 0171/1952997
URL:https://soelring-museen.de/termin/workshop-salzteigfiguren-herstellen-fuer-den-joeoelboom-11-10-25/
LOCATION:Boy-Lornsen Schule\, Tinnum\, Deutschland
CATEGORIES:Workshop
ATTACH;FMTTYPE=image/jpeg:https://soelring-museen.de/wp-content/uploads/2025/04/5569_image_salzteigfiguren-joeoelboom-soelring-foriining_II-scaled-1.jpg
END:VEVENT
BEGIN:VEVENT
DTSTART;TZID=Europe/Berlin:20251012T113000
DTEND;TZID=Europe/Berlin:20251012T130000
DTSTAMP:20260419T214753
CREATED:20250908T092219Z
LAST-MODIFIED:20250922T144547Z
UID:7278-1760268600-1760274000@soelring-museen.de
SUMMARY:Ausstellungseröffnung: Rummel Rummel Ruttje. Rummelpott und Maskenlauf
DESCRIPTION:Wir laden ein zur Eröffnung der Sonderausstellung „Rummel Rummel Ruttje. Rummelpott und Maskenlauf“\nEine alte norddeutsche und damit auch Sylter Tradition verbirgt sich hinter dem Rummelpottlaufen bzw. Maskenlaufen\, das in der lokalen Kultur teils sehr verwurzelt ist. Am Silvesterabend werden bis heute die Türen für die RummelpottläuferInnen geöffnet. Damit wird zugleich einem besonderen Heischebrauch gewürdigt und dieser lebendig gehalten. Allerdings gerät dieser Brauch zunehmend in Vergessenheit. Verkleidet und meist mit Lärminstrumenten ziehen die Verkleideten von Haus zu Haus und Tür zu Tür\, um die typischen Rummelpottlieder und Sprüche vorzutragen. Dafür gibt es dann Süßigkeiten und die ein oder andere Münze. Die Erwachsenen bekommen meist einen Schnaps. Bei den Versen kann es sich um überlieferte\, meist plattdeutsche Gedichte handeln\, aber auch zeitaktuelle und politische Reden.\nDie Ausstellung gibt Einblicke in die Alltagskultur des Rummelpottlaufens und zugleich in das graphische Werk des Künstlers Willem Grimm\, der sich während seiner Schaffenszeit mit dem Thema der Maskierung und des Rummelpottlaufens auseinandersetzte. \nMehr zur Ausstellung im Ausstellungsflyer\nMehr zur Eröffnung der Ausstellung \nDATUM 12. Oktober 2025 um 11:30 Uhr\nTREFFPUNKT/ORT Sylt Museum\, Am Kliff 19\, Keitum
URL:https://soelring-museen.de/termin/ausstellungseroeffnung-rummel-rummel-ruttje-rummelpott-und-maskenlauf/
LOCATION:Sylt Museum\, Am Kliff 19\, Sylt | Keitum\, 25980\, Deutschland
CATEGORIES:Ausstellungen
ATTACH;FMTTYPE=image/jpeg:https://soelring-museen.de/wp-content/uploads/2025/09/grimm_willem_teufelsgeige-soelring-museen.jpg
END:VEVENT
BEGIN:VEVENT
DTSTART;TZID=Europe/Berlin:20251014T160000
DTEND;TZID=Europe/Berlin:20251014T170000
DTSTAMP:20260419T214753
CREATED:20250825T081739Z
LAST-MODIFIED:20250925T140729Z
UID:7190-1760457600-1760461200@soelring-museen.de
SUMMARY:Familienführung Altfriesisches Haus seit 1640
DESCRIPTION:Leben im Kapitänshaus – eine Familienführung durch das Altfriesische Haus seit 1640\nIn einem Sylter Kapitänshaus gibt es nicht nur spannende Geschichten zu entdecken\, sondern auch jede Menge Einblicke in das Leben der Sylter Kinder vor vielen Jahrzehnten. Wie war es wohl in einer Seefahrerfamilie und einem Kapitänshaus aufzuwachsen? Womit konnten die Bewohner Licht machen\, wenn es doch noch keine Strom gab? Wie wurde geheizt\, so ganz ohne Heizung? Dieses besondere Sylter Haus hat schon so viele Jahre auf dem Buckel. Auch wenn es schon sehr alt ist\, lassen sich viele Dinge und Geschichten finden\, die in unserem heutigen Alltag sehr aktuell ist.\nAnmeldung zwingend erforderlich. Zur Online Buchung. \nDATUM 14. Oktober 2025 um 16 Uhr\nKOSTEN Museumseintritt zzgl. Führungsgebühr (EW 3 Euro\, Kinder 1\,50 Euro)\nTREFFPUNKT/ORT Altfriesisches Haus seit 1640\, Am Kliff 13\, 25980 Sylt / Keitum\nANMELDUNG Erforderlich – Vorverkauf unter www.sylt.de\nIm Rahmen der Familienwochen Sylt www.sylt.de/familienwochen
URL:https://soelring-museen.de/termin/famiilenfuehrung_afh_14-10/
LOCATION:Altfriesisches Haus seit 1640\, Am Kliff 13\, 25980 Sylt | Keitum\, 25980\, Deutschland
CATEGORIES:Führung
ATTACH;FMTTYPE=image/jpeg:https://soelring-museen.de/wp-content/uploads/2025/06/fuehrung-vogelkoje-sylt.jpg
END:VEVENT
BEGIN:VEVENT
DTSTART;TZID=Europe/Berlin:20251020T090000
DTEND;TZID=Europe/Berlin:20251020T160000
DTSTAMP:20260419T214753
CREATED:20250808T100553Z
LAST-MODIFIED:20250903T131433Z
UID:7172-1760950800-1760976000@soelring-museen.de
SUMMARY:TalentCAMPus 2025 – Das Sylter Filmstudio
DESCRIPTION:TalentCAMPus 2025 – Das Sylter Filmstudio\nNach einem Jahr Auszeit starten wir wieder mit unserem Sylter Filmstudio\, das im Rahmen des Förderprogramms „Kultur macht STARK“ stattfindet. \nMit einem neuen Konzept wollen wir gemeinsam mit 16 Sylter Jugendlichen und Paula Wehmeyer als Teamleiterin das Treffen der Generationen starten und damit unseren siebten TalentCAMPus realisieren. \n \nIn der Zeit vom 20. Bis 24. Oktober 2025 treffen wir uns täglich von 9 bis 16 Uhr und arbeiten gemeinsam an der Sylter Geschichte. Unser Ziel ist es 4-5 SylterInnen zu treffen und diese jeweils zu einem besonderen Inselthema zu interviewen. Dazu braucht es einiges an Vorarbeit und Recherche. Zugleich dürfen die TeilnehmerInnen die Kamera- und Tonarbeit durchführen und natürlich auch moderieren. \nAm Ende dieses Projektes steht ein Film\, der die Interviews dokumentiert und den wir den wir mit allen Beteiligten und Interessierten anschauen werden. \nDie Teilnahme ist kostenfrei\, auch für die Verpflegung sorgen wir. Bei Interesse melde dich über Holger Bünte unter holger.buente@gmeinde-sylt.de für das Ferienprojekt an. Das Anmeldeformular als pdf zum Download. \nDer TalentCAMPus ist ein Gemeinschaftsprojekt von der VHS Sylt der Gemeinde Sylt  und den Sölring Museen. Finanziert wird die Veranstaltung durch das Bundesministerium für Bildung und Forschung durch das Förderprojekt „Kultur macht STARK. Bündnisse für Bildung“ \nWas: Ferienprojekt für Sylter Jugendliche – „Treffen der Generationen“\nWann: 20. Bis 24. Oktober 2025 jeweils von 9 bis 16 Uhr\nAlter: 10 bis 17 Jahre\nWo: In den Räumen der Lebenshilfe Sylt e.V.\, Bastianstraße 22a\, Westerland\nKosten: kostenfrei inkl. Mittagessen\nVeranstaltet von: Sölring Museen\, Gemeinde Sylt (Jugendpflege)\, VHS Sylt\nAnmeldung: Das Anmeldeformular als pdf zum Download.
URL:https://soelring-museen.de/termin/talentcampus-2025-das-sylter-filmstudio/
CATEGORIES:Workshop
ATTACH;FMTTYPE=image/jpeg:https://soelring-museen.de/wp-content/uploads/2025/08/filmprojekt-25-jugendliche.jpg
END:VEVENT
BEGIN:VEVENT
DTSTART;TZID=Europe/Berlin:20251021T160000
DTEND;TZID=Europe/Berlin:20251021T170000
DTSTAMP:20260419T214753
CREATED:20250825T081837Z
LAST-MODIFIED:20250925T140649Z
UID:7193-1761062400-1761066000@soelring-museen.de
SUMMARY:Familienführung Altfriesisches Haus seit 1640
DESCRIPTION:Leben im Kapitänshaus – eine Familienführung durch das Altfriesische Haus seit 1640\nIn einem Sylter Kapitänshaus gibt es nicht nur spannende Geschichten zu entdecken\, sondern auch jede Menge Einblicke in das Leben der Sylter Kinder vor vielen Jahrzehnten. Wie war es wohl in einer Seefahrerfamilie und einem Kapitänshaus aufzuwachsen? Womit konnten die Bewohner Licht machen\, wenn es doch noch keine Strom gab? Wie wurde geheizt\, so ganz ohne Heizung? Dieses besondere Sylter Haus hat schon so viele Jahre auf dem Buckel. Auch wenn es schon sehr alt ist\, lassen sich viele Dinge und Geschichten finden\, die in unserem heutigen Alltag sehr aktuell ist.\nAnmeldung zwingend erforderlich. Zur Online Buchung \nDATUM 14. Oktober 2025 um 16 Uhr\nKOSTEN Museumseintritt zzgl. Führungsgebühr (EW 3 Euro\, Kinder 1\,50 Euro)\nTREFFPUNKT/ORT Altfriesisches Haus seit 1640\, Am Kliff 13\, 25980 Sylt / Keitum\nANMELDUNG Erforderlich – Vorverkauf unter www.sylt.de\nIm Rahmen der Familienwochen Sylt www.sylt.de/familienwochen
URL:https://soelring-museen.de/termin/familienfuehrung-afh-21-10/
LOCATION:Altfriesisches Haus seit 1640\, Am Kliff 13\, 25980 Sylt | Keitum\, 25980\, Deutschland
CATEGORIES:Führung
ATTACH;FMTTYPE=image/jpeg:https://soelring-museen.de/wp-content/uploads/2025/06/fuehrung-vogelkoje-sylt.jpg
END:VEVENT
BEGIN:VEVENT
DTSTART;TZID=Europe/Berlin:20251029T190000
DTEND;TZID=Europe/Berlin:20251029T203000
DTSTAMP:20260419T214753
CREATED:20250915T105307Z
LAST-MODIFIED:20250917T090205Z
UID:7294-1761764400-1761769800@soelring-museen.de
SUMMARY:Museumsgeflüster: Märchen zu historischen Objekten
DESCRIPTION:Museumsgeflüster: Märchen zu historischen Objekten.\n\nBei diesem Märchenzauber im Altfriesischen Haus erfahren Sie faszinierende Objekte der Sylter Geschichte auf andere Weise. Die Sölring Museen veranstalten mit Katja Hausmann und dem Kontorhaus Sylt am 29. & 30. Oktober 2026 einen Benefizabend zu Gunsten von Restaurierungsarbeiten im Altfriesischen Haus. Tauchen Sie gemeinsam mit der freien Märchenerzählerin Katja Hausmann an unserem Objektgeflüster-Museumsrundgang in die Welt der Märchen ein. Es erwarten Sie zehn Märchen und Erzählungen\, die mit zehn Objekten und dem Altfriesischen Haus verbunden sind und die diese Alltagskultur in einem ganz anderen Licht präsentieren. Von jeher haben Menschen ihre alltäglichen Lebensumstände\, ihr Handwerk\, aber auch ihre Weisheiten und Werte in Märchen und anderen symbolhaften Geschichten verwoben. So ist es nicht verwunderlich\, dass viele Gegenstände\, welche im Museum verwahrt und ausgestellt werden\, ihren Eingang in die alten Erzählungen fanden oder diese inspiriert haben. Davon lassen wir uns auch inspirieren und hören Märchen von damals alltäglichen Verrichtungen und Gegenständen aus dem Museum\, die in Erzählungen verflochten sind und dadurch einen besonderen Zauber und Botschaften entfalten und die Märchenfäden weiter spinnen…lassen Sie sich verzaubern. Ein weiterer besonderer Programmpunkt wird an diesem Abend die Pause sein. Zur Stärkung bieten wir Ihnen eine Teezeremonie an\, um auch hier die Märchenwelt zum Thema Tee zu berühren. Die Teepause wird fachkundig von Tanja Mihailovic\, vom Team des Kontorhaus Sylt / Keitum begleitet\, die Ihnen ausgewählte Tees vorstellt und zum Trinken reicht. \nDie Veranstaltung ist eine Benefizaktion im Rahmen der Aktion „Werte erhalten“ und zu Gunsten der Sölring Museen. Die gesamten Einnahmen werden für Pflege- und Erhaltungsmaßnahmen im Altfriesischen Haus eingesetzt.\nDie Teilnehmerzahl ist begrenzt. Die Karten je 20 Euro sind im Vorverkauf an den Vorverkaufsstellen und online unter www.insel-sylt.de zu erwerben. \nDATUM 29. und 30. Oktober 2025 um 19 bis ca. 20:30 Uhr\nKOSTEN 20 Euro/Person\nTREFFPUNKT/ORT Altfriesisches Haus seit 1640 | Am Kliff 13 | 25980 Sylt / Keitum\nANMELDUNG Über das Buchungsportal der Insel Sylt \n  \n  \n 
URL:https://soelring-museen.de/termin/museumsgefluester-29-10-25/
LOCATION:Altfriesisches Haus seit 1640\, Am Kliff 13\, 25980 Sylt | Keitum\, 25980\, Deutschland
CATEGORIES:Lesung
ATTACH;FMTTYPE=image/jpeg:https://soelring-museen.de/wp-content/uploads/2025/09/Altfriesisches-Haus-3-yelkenli-150dpi.jpg
END:VEVENT
BEGIN:VEVENT
DTSTART;TZID=Europe/Berlin:20251030T190000
DTEND;TZID=Europe/Berlin:20251030T203000
DTSTAMP:20260419T214753
CREATED:20250915T105357Z
LAST-MODIFIED:20250917T090246Z
UID:7298-1761850800-1761856200@soelring-museen.de
SUMMARY:Museumsgeflüster: Märchen zu historischen Objekten
DESCRIPTION:Museumsgeflüster: Märchen zu historischen Objekten.\n\nBei diesem Märchenzauber im Altfriesischen Haus erfahren Sie faszinierende Objekte der Sylter Geschichte auf andere Weise. Die Sölring Museen veranstalten mit Katja Hausmann und dem Kontorhaus Sylt am 29. & 30. Oktober 2026 einen Benefizabend zu Gunsten von Restaurierungsarbeiten im Altfriesischen Haus. Tauchen Sie gemeinsam mit der freien Märchenerzählerin Katja Hausmann an unserem Objektgeflüster-Museumsrundgang in die Welt der Märchen ein. Es erwarten Sie zehn Märchen und Erzählungen\, die mit zehn Objekten und dem Altfriesischen Haus verbunden sind und die diese Alltagskultur in einem ganz anderen Licht präsentieren. Von jeher haben Menschen ihre alltäglichen Lebensumstände\, ihr Handwerk\, aber auch ihre Weisheiten und Werte in Märchen und anderen symbolhaften Geschichten verwoben. So ist es nicht verwunderlich\, dass viele Gegenstände\, welche im Museum verwahrt und ausgestellt werden\, ihren Eingang in die alten Erzählungen fanden oder diese inspiriert haben. Davon lassen wir uns auch inspirieren und hören Märchen von damals alltäglichen Verrichtungen und Gegenständen aus dem Museum\, die in Erzählungen verflochten sind und dadurch einen besonderen Zauber und Botschaften entfalten und die Märchenfäden weiter spinnen…lassen Sie sich verzaubern. Ein weiterer besonderer Programmpunkt wird an diesem Abend die Pause sein. Zur Stärkung bieten wir Ihnen eine Teezeremonie an\, um auch hier die Märchenwelt zum Thema Tee zu berühren. Die Teepause wird fachkundig von Tanja Mihailovic\, vom Team des Kontorhaus Sylt / Keitum begleitet\, die Ihnen ausgewählte Tees vorstellt und zum Trinken reicht. \nDie Veranstaltung ist eine Benefizaktion im Rahmen der Aktion „Werte erhalten“ und zu Gunsten der Sölring Museen. Die gesamten Einnahmen werden für Pflege- und Erhaltungsmaßnahmen im Altfriesischen Haus eingesetzt.\nDie Teilnehmerzahl ist begrenzt. Die Karten je 20 Euro sind im Vorverkauf an den Vorverkaufsstellen und online unter www.insel-sylt.de zu erwerben. \nDATUM 29. und 30. Oktober 2025 um 19 bis ca. 20:30 Uhr\nKOSTEN 20 Euro/Person\nTREFFPUNKT/ORT Altfriesisches Haus seit 1640 | Am Kliff 13 | 25980 Sylt / Keitum\nANMELDUNG Über das Buchungsportal der Insel Sylt \n 
URL:https://soelring-museen.de/termin/museumsgefluester-30-10-25/
LOCATION:Altfriesisches Haus seit 1640\, Am Kliff 13\, 25980 Sylt | Keitum\, 25980\, Deutschland
CATEGORIES:Lesung
ATTACH;FMTTYPE=image/jpeg:https://soelring-museen.de/wp-content/uploads/2025/09/Altfriesisches-Haus-3-yelkenli-150dpi.jpg
END:VEVENT
END:VCALENDAR