BEGIN:VCALENDAR
VERSION:2.0
PRODID:-//Sölring Museen Sylt - ECPv6.15.20//NONSGML v1.0//EN
CALSCALE:GREGORIAN
METHOD:PUBLISH
X-WR-CALNAME:Sölring Museen Sylt
X-ORIGINAL-URL:https://soelring-museen.de
X-WR-CALDESC:Veranstaltungen für Sölring Museen Sylt
REFRESH-INTERVAL;VALUE=DURATION:PT1H
X-Robots-Tag:noindex
X-PUBLISHED-TTL:PT1H
BEGIN:VTIMEZONE
TZID:Europe/Berlin
BEGIN:DAYLIGHT
TZOFFSETFROM:+0100
TZOFFSETTO:+0200
TZNAME:CEST
DTSTART:20240331T010000
END:DAYLIGHT
BEGIN:STANDARD
TZOFFSETFROM:+0200
TZOFFSETTO:+0100
TZNAME:CET
DTSTART:20241027T010000
END:STANDARD
BEGIN:DAYLIGHT
TZOFFSETFROM:+0100
TZOFFSETTO:+0200
TZNAME:CEST
DTSTART:20250330T010000
END:DAYLIGHT
BEGIN:STANDARD
TZOFFSETFROM:+0200
TZOFFSETTO:+0100
TZNAME:CET
DTSTART:20251026T010000
END:STANDARD
BEGIN:DAYLIGHT
TZOFFSETFROM:+0100
TZOFFSETTO:+0200
TZNAME:CEST
DTSTART:20260329T010000
END:DAYLIGHT
BEGIN:STANDARD
TZOFFSETFROM:+0200
TZOFFSETTO:+0100
TZNAME:CET
DTSTART:20261025T010000
END:STANDARD
END:VTIMEZONE
BEGIN:VEVENT
DTSTART;TZID=Europe/Berlin:20250904T193000
DTEND;TZID=Europe/Berlin:20250904T210000
DTSTAMP:20260419T232419
CREATED:20250409T075558Z
LAST-MODIFIED:20250624T072036Z
UID:5581-1757014200-1757019600@soelring-museen.de
SUMMARY:Die Farben des Meeres | Vortragsreihe Freundeskreis Sölring Museen
DESCRIPTION:Die Farben des Meeres. Werke der Düsseldorfer Malerschule\nProf. Dr. Martina Sitt\, Kassel\nWasser und Licht sind Elemente\, die die Maler der im 19. Jahrhundert hochberühmten Düsseldorfer Malerschule immer wieder in die Natur zu ihrer Beobachtung lockten. Natur – das war für sie zunächst die heimische Umgebung\, aber auch die Erfahrungen an den Küsten Norwegens oder Italiens\, Hollands oder eben Sylts. Die genaue Wiedergabe der Naturphänomene teilten die Künstler mit so manchem Vertreter ihrer Zunft auch aus anderen Regionen und Kunstakademien\, doch eignet ihren Kompositionen meist etwas Eigentümliches an\, das sie unverwechselbar werden ließ. In ihrem Vortrag wird die Kunsthistorikerin und ausgewiesene Expertin für die Kunst der Düsseldorfer Malerschule Prof. Dr. Martina Sitt die Charakteristika dieser Malerei aufzeigen und einen Blick auf die Rahmenbedingungen der damaligen künstlerischen Arbeit werfen\, die sich – bei aller Kontinuität – auch durch maltechnische Neuerungen in einem steten Wandel befand. Mit ihren Syltmotiven fanden die Künstler der Düsseldorfer Malerschule zahlreiche Sammler\, so dass sich ihr malerischer Siegeszug bis hin zur deutschen Nordseeküste gut nachverfolgen lässt. \nDATUM 04.09. 19:30 – 21:00 Uhr\nKOSTEN Erwachsene 10 Euro | Mitglieder des Freundeskreis Sölring Museen und der Sölring Foriining erhalten freien Eintritt.\nTicket buchen\nTreffpunkt: Vor dem Eingang der historischen Anlage Naturpfad Vogelkoje Kampen zwischen\nKampen und List.\nAnmeldung 04651/32805 oder info@soelring-foriining.de
URL:https://soelring-museen.de/termin/die-farben-des-meeres-vortragsreihe-freundeskreis-soelring-museen4-9-25/
LOCATION:Sylt Museum\, Am Kliff 19\, Sylt | Keitum\, 25980\, Deutschland
CATEGORIES:Vortrag
ATTACH;FMTTYPE=image/jpeg:https://soelring-museen.de/wp-content/uploads/2025/04/5581_image_dirks-andreas-fischer-web-sylt-museum.jpg
END:VEVENT
BEGIN:VEVENT
DTSTART;TZID=Europe/Berlin:20250930T180000
DTEND;TZID=Europe/Berlin:20250930T200000
DTSTAMP:20260419T232419
CREATED:20250917T090617Z
LAST-MODIFIED:20250917T090617Z
UID:7315-1759255200-1759262400@soelring-museen.de
SUMMARY:Sölring Forum „Wêrten bihual – Werte erhalten!“
DESCRIPTION:Förderung des Vereinslebens durch Vorträge\, Gespräche und Genuss | Eine Veranstaltung des Sölring Foriining e.V.\nMit dem neuen Format „Sölring Forum“ möchte die Sölring Foriining die Traditionen\, Werte und Themen des Vereines wieder stärker in den Vordergrund rücken\, beleben und fortführen. Das „Sölring Forum Wêrten bihual – Werte erhalten“ bietet in loser Form und über das Jahr verteilt Gespräche mit Experten\, Vorträge mit Diskussionsrunden sowie Exkursionen auf der Insel an. Die Reihe wird von PartnerInnen und SponsorInnen der Sölring Foriining ermöglicht werden\, die mit ihrem Engagement die Vorträge und das Catering der jeweiligen Veranstaltung finanzieren. So kann die Sölring Foriining mit dem „Sölring Forum Wêrten bihual – Werte erhalten“ ansprechende und anspruchsvolle Veranstaltungen ausrichten\, die das Miteinander fördern und insulare Themen diskutieren lassen.\nWir treffen uns\, tauschen uns aus\, lernen uns und die Werte/Ziele des Vereins\, dessen Engagement für die Insel und seine Belange besser kennen. Die Attraktivität der Veranstaltungen soll auch der Gewinnung neuer Mitglieder und Förderer und Förderinnen dienen.\nDer Auftakt zu der Forumsreihe startet am 30. September um 18:00 Uhr im Sylt Museum mit dem Titel „Werte erhalten\, Werte schützen“ gestartet. Dabei wird es nicht nur um die Frage gehen\, wie das Sylt Museum seine Kunstwerke und kulturellen Schätze taxieren und versichern kann – Thema wird auch sein wie privater Kunstbesitz\, persönliche Werte\, Schmuck\, Sammler-Objekte\, Erbstücke\, Immobilien und Ähnliches geschützt werden können. \nAls Referent des Abends steht der Versicherungsexperte Rainer Giese im Gespräch Rede und Antwort.\nFür den Genuss-Teil des Abends sorgt Johannes King. Ermöglicht wird dieses Forum vom VersicherungsKontor Sylt. \nDatum 30. September 2025\nUhrzeit 18.00–20.00 Uhr\nDie Teilnahme am Sölring Forum kostet 15\,- €.\nFür unsere Mitglieder der Sölring Foriining und des Freundeskreises der Sölring Museen ist die Teilnahme kostenfrei.\nSpenden sind von allen Besuchern wichtig und stets willkommen.
URL:https://soelring-museen.de/termin/soelring-forum-werten-bihual-werte-erhalten-2/
CATEGORIES:Vortrag
ATTACH;FMTTYPE=image/jpeg:https://soelring-museen.de/wp-content/uploads/2025/06/werte-erhalten-logo.jpg
END:VEVENT
END:VCALENDAR