BEGIN:VCALENDAR
VERSION:2.0
PRODID:-//Sölring Museen Sylt - ECPv6.15.20//NONSGML v1.0//EN
CALSCALE:GREGORIAN
METHOD:PUBLISH
X-WR-CALNAME:Sölring Museen Sylt
X-ORIGINAL-URL:https://soelring-museen.de
X-WR-CALDESC:Veranstaltungen für Sölring Museen Sylt
REFRESH-INTERVAL;VALUE=DURATION:PT1H
X-Robots-Tag:noindex
X-PUBLISHED-TTL:PT1H
BEGIN:VTIMEZONE
TZID:Europe/Berlin
BEGIN:DAYLIGHT
TZOFFSETFROM:+0100
TZOFFSETTO:+0200
TZNAME:CEST
DTSTART:20240331T010000
END:DAYLIGHT
BEGIN:STANDARD
TZOFFSETFROM:+0200
TZOFFSETTO:+0100
TZNAME:CET
DTSTART:20241027T010000
END:STANDARD
BEGIN:DAYLIGHT
TZOFFSETFROM:+0100
TZOFFSETTO:+0200
TZNAME:CEST
DTSTART:20250330T010000
END:DAYLIGHT
BEGIN:STANDARD
TZOFFSETFROM:+0200
TZOFFSETTO:+0100
TZNAME:CET
DTSTART:20251026T010000
END:STANDARD
BEGIN:DAYLIGHT
TZOFFSETFROM:+0100
TZOFFSETTO:+0200
TZNAME:CEST
DTSTART:20260329T010000
END:DAYLIGHT
BEGIN:STANDARD
TZOFFSETFROM:+0200
TZOFFSETTO:+0100
TZNAME:CET
DTSTART:20261025T010000
END:STANDARD
END:VTIMEZONE
BEGIN:VEVENT
DTSTART;TZID=Europe/Berlin:20250625T160000
DTEND;TZID=Europe/Berlin:20250625T170000
DTSTAMP:20260420T042950
CREATED:20250620T080555Z
LAST-MODIFIED:20250624T072038Z
UID:6666-1750867200-1750870800@soelring-museen.de
SUMMARY:Öffentliche Führung durch das Altfriesische Haus seit 1640
DESCRIPTION:Öffentliche Führung durch das Altfriesische Haus seit 1640\nBilegger\, Klober\, Kellerkammer – ein Keitumer Kapitänshaus\nDas Altfriesische Haus am Keitumer Watt trotzt seit Jahrhunderten Wind und Wetter. Nur noch selten lassen sich die historischen Sylter Kapitänshäuser auch von Innen betrachten. Wie lebten die Sylter im 18. und 19. Jahrhundert? Was ist so besonders am uthlandfriesischen Haustyp und wann wurde der Pesel – die gute Wohnstube – eigentlich genutzt? \nDie Antworten darauf können Sie am 25. Juni um 16 Uhr mit dem Museumsleiter der Sölring Museen finden. Dann lädt Alexander Römer alle Neugierigen zur einstündigen Führung in das Museum ein und berichtet darüber\, wie es sich damals lebte und was die Besonderheiten des 280 Jahre alten Hauses sind. Ausreichend Raum für die ein oder andere Frage zur einstigen Sylter Wohnkultur wird sich ebenfalls ergeben. \nDATUM 25. Juni 2025\nKOSTEN Eintritt zzgl. 3 Euro Führungsgebühr.\nTREFFPUNKT/ORT Altfriesisches Haus\nANMELDUNG unbedingt erforderlich: Karten online im Vorverkauf erwerben
URL:https://soelring-museen.de/termin/oeffentliche-fuehrung-durch-das-altfriesische-haus-seit-1640/
LOCATION:Altfriesisches Haus seit 1640\, Am Kliff 13\, 25980 Sylt | Keitum\, 25980\, Deutschland
CATEGORIES:Führung
ATTACH;FMTTYPE=image/jpeg:https://soelring-museen.de/wp-content/uploads/2025/06/altfriesisches-haus-pesel.jpg
END:VEVENT
BEGIN:VEVENT
DTSTART;TZID=Europe/Berlin:20250627T093000
DTEND;TZID=Europe/Berlin:20250627T113000
DTSTAMP:20260420T042950
CREATED:20250409T074133Z
LAST-MODIFIED:20250624T072038Z
UID:5550-1751016600-1751023800@soelring-museen.de
SUMMARY:Sinnliche Wattwanderung
DESCRIPTION:Ein sinnliches Erlebnis – Auch für Landratten!\nWattwanderungen am Naturpfad Vogelkoje Kampen – ein sinnliches Erlebnis\, bei dem man das Watt\nfühlen\, riechen\, sehen und schmecken kann. \nDie Wanderung findet bei jedem Wetter außer bei Sturm und Gewitter statt.\nGummistiefel oder wasserfeste Schuhe sind mitzubringen\, ebenso dem Wetter entsprechende\nKleidung.\nBirgit Hussel weiht in ca. 2 Std. alle Landratten in die Geheimnisse des Wattenmeeres ein. \nTeilnahme nur mit Anmeldung möglich. Karten an den bekannten VVK-Stellen oder online auf sylt.de\nWeitere Informationen in der Geschäftsstelle der Sölring Foriining unter Tel. 04651-32805 oder unter info@soelring-foriining.de. \nDATUM 27. Juni 9:30 – 11:30 Uhr\nKOSTEN Erwachsene 13 Euro\, Kinder 8 Euro | Mitglieder der Sölring Foriining kostenfrei.\nTreffpunkt: Vor dem Eingang der historischen Anlage Naturpfad Vogelkoje Kampen zwischen Kampen und List.\nAnmeldung 04651/32805 oder info@soelring-foriining.de
URL:https://soelring-museen.de/termin/sinnliche-wattwanderung-27-6-25/
LOCATION:Naturpfad Vogelkoje Kampen\, Lister Straße 100\, Kampen\, 25999
CATEGORIES:Führung
ATTACH;FMTTYPE=image/jpeg:https://soelring-museen.de/wp-content/uploads/2025/04/5535_image_2019-wattwanderung-hussel-soelring-foriining.jpg
END:VEVENT
END:VCALENDAR