BEGIN:VCALENDAR
VERSION:2.0
PRODID:-//Sölring Museen Sylt - ECPv6.15.20//NONSGML v1.0//EN
CALSCALE:GREGORIAN
METHOD:PUBLISH
X-WR-CALNAME:Sölring Museen Sylt
X-ORIGINAL-URL:https://soelring-museen.de
X-WR-CALDESC:Veranstaltungen für Sölring Museen Sylt
REFRESH-INTERVAL;VALUE=DURATION:PT1H
X-Robots-Tag:noindex
X-PUBLISHED-TTL:PT1H
BEGIN:VTIMEZONE
TZID:Europe/Berlin
BEGIN:DAYLIGHT
TZOFFSETFROM:+0100
TZOFFSETTO:+0200
TZNAME:CEST
DTSTART:20250330T010000
END:DAYLIGHT
BEGIN:STANDARD
TZOFFSETFROM:+0200
TZOFFSETTO:+0100
TZNAME:CET
DTSTART:20251026T010000
END:STANDARD
BEGIN:DAYLIGHT
TZOFFSETFROM:+0100
TZOFFSETTO:+0200
TZNAME:CEST
DTSTART:20260329T010000
END:DAYLIGHT
BEGIN:STANDARD
TZOFFSETFROM:+0200
TZOFFSETTO:+0100
TZNAME:CET
DTSTART:20261025T010000
END:STANDARD
BEGIN:DAYLIGHT
TZOFFSETFROM:+0100
TZOFFSETTO:+0200
TZNAME:CEST
DTSTART:20270328T010000
END:DAYLIGHT
BEGIN:STANDARD
TZOFFSETFROM:+0200
TZOFFSETTO:+0100
TZNAME:CET
DTSTART:20271031T010000
END:STANDARD
END:VTIMEZONE
BEGIN:VEVENT
DTSTART;TZID=Europe/Berlin:20261006T190000
DTEND;TZID=Europe/Berlin:20261006T203000
DTSTAMP:20260419T180448
CREATED:20260225T105846Z
LAST-MODIFIED:20260402T092404Z
UID:7685-1791313200-1791318600@soelring-museen.de
SUMMARY:Lesung | Zwischen Sylt und Dithmarschen
DESCRIPTION:Zwischen Sylt und Dithmarschen. Erinnerungen an Boy Lornsen und Walter Jens\nIn dieser Lesung widmet sich der Autor Frank Trende zwei bedeutenden Persönlichkeiten der deutschen Literaturlandschaft: dem Kinder- und Jugendbuchautor Boy Lornsen und dem renommierten Schriftsteller und Rhetoriker Walter Jens.\nDie beiden Männer verband über Jahrzehnte hinweg eine tiefe Freundschaft. Ein zentraler Ankerpunkt dieser Verbindung war ihre gemeinsame Liebe zur schleswig-holsteinischen Westküste. Frank Trende nimmt uns mit auf eine biografische und geografische Reise entlang der Küste – von der Elbmündung bis hinauf nach Sylt. \nDie Publikation „Zwischen Sylt und Dithmarschen“ von Frank Trende ist mehr als nur eine biografische Skizze; es ist eine Hommage an eine besondere Freundschaft und an die raue\, inspirierende Landschaft Norddeutschlands und bietet trotz des kompakten Formats eine reiche Ausstattung\, die es zu einem wertvollen Sammlerstück für Literaturinteressierte macht. Für Liebhaber der schleswig-holsteinischen Literaturgeschichte und Fans von Boy Lornsen oder Walter Jens bietet dieses Heft einen intimen und liebevoll gestalteten Einblick. „Zwischen Sylt und Dithmarschen“ erschien als Heft 7 in der Edition MolenKieker und ist in unserem Museumsshop zu erwerben.\nFrank Trende wurde mit dem Dithmarscher Kulturpreis 2025 ausgezeichnet. \nDATUM: 06. Oktober 2026 um 19 Uhr\nKOSTEN: Spende\nTREFFPUNKT/ORT: Sylt Museum\, Am Kliff 19\, 25980 Sylt/Keitum
URL:https://soelring-museen.de/termin/trende-lornsen-jens-6-10-26/
LOCATION:Sylt Museum\, Am Kliff 19\, Sylt | Keitum\, 25980\, Deutschland
CATEGORIES:Lesung
ATTACH;FMTTYPE=image/jpeg:https://soelring-museen.de/wp-content/uploads/2026/02/trende-lornsen-jens.jpg
ORGANIZER;CN="S%C3%B6lring Museen":MAILTO:info@soelring-museen.de
END:VEVENT
BEGIN:VEVENT
DTSTART;TZID=Europe/Berlin:20261021T160000
DTEND;TZID=Europe/Berlin:20261021T170000
DTSTAMP:20260419T180448
CREATED:20260123T085250Z
LAST-MODIFIED:20260123T085250Z
UID:7640-1792598400-1792602000@soelring-museen.de
SUMMARY:Familienführung Altfriesisches Haus seit 1640
DESCRIPTION:Leben im Kapitänshaus – eine Familienführung durch das Altfriesische Haus seit 1640\nIn einem Sylter Kapitänshaus gibt es nicht nur spannende Geschichten zu entdecken\, sondern auch jede Menge Einblicke in das Leben der Sylter Kinder vor vielen Jahrzehnten. Wie war es wohl in einer Seefahrerfamilie und einem Kapitänshaus aufzuwachsen? Womit konnten die Bewohner Licht machen\, wenn es doch noch keine Strom gab? Wie wurde geheizt\, so ganz ohne Heizung? Dieses besondere Sylter Haus hat schon so viele Jahre auf dem Buckel. Auch wenn es schon sehr alt ist\, lassen sich viele Dinge und Geschichten finden\, die in unserem heutigen Alltag sehr aktuell ist.\nAnmeldung zwingend erforderlich. Zur Online Buchung \nDATUM 21. Oktober 2026 um 16 Uhr\nKOSTEN Museumseintritt zzgl. Führungsgebühr (EW 3 Euro\, Kinder 1\,50 Euro)\nTREFFPUNKT/ORT Altfriesisches Haus seit 1640\, Am Kliff 13\, 25980 Sylt / Keitum\nANMELDUNG Erforderlich – Vorverkauf unter www.sylt.de\nIm Rahmen der Familienwochen Sylt www.sylt.de/familienwochen
URL:https://soelring-museen.de/termin/familienfuehrung-altfriesisches-haus-21-10-2026/
LOCATION:Altfriesisches Haus seit 1640\, Am Kliff 13\, 25980 Sylt | Keitum\, 25980\, Deutschland
CATEGORIES:Führung
ATTACH;FMTTYPE=image/jpeg:https://soelring-museen.de/wp-content/uploads/2025/06/fuehrung-vogelkoje-sylt.jpg
END:VEVENT
BEGIN:VEVENT
DTSTART;TZID=Europe/Berlin:20261022T160000
DTEND;TZID=Europe/Berlin:20261022T170000
DTSTAMP:20260419T180448
CREATED:20260123T085425Z
LAST-MODIFIED:20260123T085445Z
UID:7642-1792684800-1792688400@soelring-museen.de
SUMMARY:Familienführung Altfriesisches Haus seit 1640
DESCRIPTION:Leben im Kapitänshaus – eine Familienführung durch das Altfriesische Haus seit 1640\nIn einem Sylter Kapitänshaus gibt es nicht nur spannende Geschichten zu entdecken\, sondern auch jede Menge Einblicke in das Leben der Sylter Kinder vor vielen Jahrzehnten. Wie war es wohl in einer Seefahrerfamilie und einem Kapitänshaus aufzuwachsen? Womit konnten die Bewohner Licht machen\, wenn es doch noch keine Strom gab? Wie wurde geheizt\, so ganz ohne Heizung? Dieses besondere Sylter Haus hat schon so viele Jahre auf dem Buckel. Auch wenn es schon sehr alt ist\, lassen sich viele Dinge und Geschichten finden\, die in unserem heutigen Alltag sehr aktuell ist.\nAnmeldung zwingend erforderlich. Zur Online Buchung \nDATUM 22. Oktober 2026 um 16 Uhr\nKOSTEN Museumseintritt zzgl. Führungsgebühr (EW 3 Euro\, Kinder 1\,50 Euro)\nTREFFPUNKT/ORT Altfriesisches Haus seit 1640\, Am Kliff 13\, 25980 Sylt / Keitum\nANMELDUNG Erforderlich – Vorverkauf unter www.sylt.de\nIm Rahmen der Familienwochen Sylt www.sylt.de/familienwochen
URL:https://soelring-museen.de/termin/familienfuehrung-altfriesisches-haus-22-10-2026/
LOCATION:Altfriesisches Haus seit 1640\, Am Kliff 13\, 25980 Sylt | Keitum\, 25980\, Deutschland
CATEGORIES:Führung
ATTACH;FMTTYPE=image/jpeg:https://soelring-museen.de/wp-content/uploads/2025/06/fuehrung-vogelkoje-sylt.jpg
END:VEVENT
END:VCALENDAR