BEGIN:VCALENDAR
VERSION:2.0
PRODID:-//Sölring Museen Sylt - ECPv6.15.20//NONSGML v1.0//EN
CALSCALE:GREGORIAN
METHOD:PUBLISH
X-ORIGINAL-URL:https://soelring-museen.de
X-WR-CALDESC:Veranstaltungen für Sölring Museen Sylt
REFRESH-INTERVAL;VALUE=DURATION:PT1H
X-Robots-Tag:noindex
X-PUBLISHED-TTL:PT1H
BEGIN:VTIMEZONE
TZID:Europe/Berlin
BEGIN:DAYLIGHT
TZOFFSETFROM:+0100
TZOFFSETTO:+0200
TZNAME:CEST
DTSTART:20250330T010000
END:DAYLIGHT
BEGIN:STANDARD
TZOFFSETFROM:+0200
TZOFFSETTO:+0100
TZNAME:CET
DTSTART:20251026T010000
END:STANDARD
BEGIN:DAYLIGHT
TZOFFSETFROM:+0100
TZOFFSETTO:+0200
TZNAME:CEST
DTSTART:20260329T010000
END:DAYLIGHT
BEGIN:STANDARD
TZOFFSETFROM:+0200
TZOFFSETTO:+0100
TZNAME:CET
DTSTART:20261025T010000
END:STANDARD
BEGIN:DAYLIGHT
TZOFFSETFROM:+0100
TZOFFSETTO:+0200
TZNAME:CEST
DTSTART:20270328T010000
END:DAYLIGHT
BEGIN:STANDARD
TZOFFSETFROM:+0200
TZOFFSETTO:+0100
TZNAME:CET
DTSTART:20271031T010000
END:STANDARD
END:VTIMEZONE
BEGIN:VEVENT
DTSTART;TZID=Europe/Berlin:20260801T100000
DTEND;TZID=Europe/Berlin:20260801T120000
DTSTAMP:20260419T163351
CREATED:20260109T084258Z
LAST-MODIFIED:20260109T084258Z
UID:7519-1785578400-1785585600@soelring-museen.de
SUMMARY:Sinnliche Wattwanderung
DESCRIPTION:Ein sinnliches Erlebnis – Auch für Landratten!\nWattwanderungen am Naturpfad Vogelkoje Kampen – ein sinnliches Erlebnis\, bei dem man das Watt\nfühlen\, riechen\, sehen und schmecken kann.\nDie Wanderung findet bei jedem Wetter außer bei Sturm und Gewitter statt.\nGummistiefel oder wasserfeste Schuhe sind mitzubringen\, ebenso dem Wetter entsprechende Kleidung.\nBirgit Hussel weiht in ca. 2 Std. alle Landratten in die Geheimnisse des Wattenmeeres ein. \nTeilnahme nur mit Anmeldung möglich.\nKarten an den bekannten VVK-Stellen oder bequem unter Sylt.de online.\nWeitere Informationen in der Geschäftsstelle der Sölring Foriining \nTeilnahme nur mit Anmeldung möglich. Karten an den bekannten VVK-Stellen oder bequem unter Sylt.de online.\nDATUM 1. August 10:00 – 12:00 Uhr\nKOSTEN Erwachsene 13 Euro\, Kinder 8 Euro | Mitglieder der Sölring Foriining kostenfrei.\nTreffpunkt: Vor dem Eingang der historischen Anlage Naturpfad Vogelkoje Kampen zwischen Kampen und List.\nInformationen 04651/32805 oder info@soelring-foriining.de
URL:https://soelring-museen.de/termin/sinnliche-wattwanderung-1-8-26/
LOCATION:Naturpfad Vogelkoje Kampen\, Lister Straße 100\, Kampen\, 25999
CATEGORIES:Führung
ATTACH;FMTTYPE=image/jpeg:https://soelring-museen.de/wp-content/uploads/2025/04/5535_image_2019-wattwanderung-hussel-soelring-foriining.jpg
ORGANIZER;CN="S%C3%B6lring Foriining":MAILTO:info@soelring-foriining.de
END:VEVENT
BEGIN:VEVENT
DTSTART;TZID=Europe/Berlin:20260802T100000
DTEND;TZID=Europe/Berlin:20260802T120000
DTSTAMP:20260419T163351
CREATED:20260109T084356Z
LAST-MODIFIED:20260109T084729Z
UID:7522-1785664800-1785672000@soelring-museen.de
SUMMARY:Sinnliche Wattwanderung
DESCRIPTION:Ein sinnliches Erlebnis – Auch für Landratten!\nWattwanderungen am Naturpfad Vogelkoje Kampen – ein sinnliches Erlebnis\, bei dem man das Watt\nfühlen\, riechen\, sehen und schmecken kann.\nDie Wanderung findet bei jedem Wetter außer bei Sturm und Gewitter statt.\nGummistiefel oder wasserfeste Schuhe sind mitzubringen\, ebenso dem Wetter entsprechende Kleidung.\nBirgit Hussel weiht in ca. 2 Std. alle Landratten in die Geheimnisse des Wattenmeeres ein. \nTeilnahme nur mit Anmeldung möglich.\nKarten an den bekannten VVK-Stellen oder bequem unter Sylt.de online.\nWeitere Informationen in der Geschäftsstelle der Sölring Foriining \nTeilnahme nur mit Anmeldung möglich. Karten an den bekannten VVK-Stellen oder bequem unter Sylt.de online.\nDATUM 2. August 10:00 – 12:00 Uhr\nKOSTEN Erwachsene 13 Euro\, Kinder 8 Euro | Mitglieder der Sölring Foriining kostenfrei.\nTreffpunkt: Vor dem Eingang der historischen Anlage Naturpfad Vogelkoje Kampen zwischen Kampen und List.\nInformationen 04651/32805 oder info@soelring-foriining.de
URL:https://soelring-museen.de/termin/sinnliche-wattwanderung-2-8-26/
LOCATION:Naturpfad Vogelkoje Kampen\, Lister Straße 100\, Kampen\, 25999
CATEGORIES:Führung
ATTACH;FMTTYPE=image/jpeg:https://soelring-museen.de/wp-content/uploads/2025/04/5535_image_2019-wattwanderung-hussel-soelring-foriining.jpg
ORGANIZER;CN="S%C3%B6lring Foriining":MAILTO:info@soelring-foriining.de
END:VEVENT
BEGIN:VEVENT
DTSTART;TZID=Europe/Berlin:20260803T103000
DTEND;TZID=Europe/Berlin:20260803T123000
DTSTAMP:20260419T163351
CREATED:20260109T084433Z
LAST-MODIFIED:20260109T092953Z
UID:7524-1785753000-1785760200@soelring-museen.de
SUMMARY:Sinnliche Wattwanderung
DESCRIPTION:Ein sinnliches Erlebnis – Auch für Landratten!\nWattwanderungen am Naturpfad Vogelkoje Kampen – ein sinnliches Erlebnis\, bei dem man das Watt\nfühlen\, riechen\, sehen und schmecken kann.\nDie Wanderung findet bei jedem Wetter außer bei Sturm und Gewitter statt.\nGummistiefel oder wasserfeste Schuhe sind mitzubringen\, ebenso dem Wetter entsprechende Kleidung.\nBirgit Hussel weiht in ca. 2 Std. alle Landratten in die Geheimnisse des Wattenmeeres ein. \nTeilnahme nur mit Anmeldung möglich.\nKarten an den bekannten VVK-Stellen oder bequem unter Sylt.de online.\nWeitere Informationen in der Geschäftsstelle der Sölring Foriining \nTeilnahme nur mit Anmeldung möglich. Karten an den bekannten VVK-Stellen oder bequem unter Sylt.de online.\nDATUM 3. August 10:30 – 12:30 Uhr\nKOSTEN Erwachsene 13 Euro\, Kinder 8 Euro | Mitglieder der Sölring Foriining kostenfrei.\nTreffpunkt: Vor dem Eingang der historischen Anlage Naturpfad Vogelkoje Kampen zwischen Kampen und List.\nInformationen 04651/32805 oder info@soelring-foriining.de
URL:https://soelring-museen.de/termin/sinnliche-wattwanderung-3-8-26/
LOCATION:Naturpfad Vogelkoje Kampen\, Lister Straße 100\, Kampen\, 25999
CATEGORIES:Führung
ATTACH;FMTTYPE=image/jpeg:https://soelring-museen.de/wp-content/uploads/2025/04/5535_image_2019-wattwanderung-hussel-soelring-foriining.jpg
ORGANIZER;CN="S%C3%B6lring Foriining":MAILTO:info@soelring-foriining.de
END:VEVENT
BEGIN:VEVENT
DTSTART;TZID=Europe/Berlin:20260804T103000
DTEND;TZID=Europe/Berlin:20260804T123000
DTSTAMP:20260419T163351
CREATED:20260109T084807Z
LAST-MODIFIED:20260109T092915Z
UID:7526-1785839400-1785846600@soelring-museen.de
SUMMARY:Sinnliche Wattwanderung
DESCRIPTION:Ein sinnliches Erlebnis – Auch für Landratten!\nWattwanderungen am Naturpfad Vogelkoje Kampen – ein sinnliches Erlebnis\, bei dem man das Watt\nfühlen\, riechen\, sehen und schmecken kann.\nDie Wanderung findet bei jedem Wetter außer bei Sturm und Gewitter statt.\nGummistiefel oder wasserfeste Schuhe sind mitzubringen\, ebenso dem Wetter entsprechende Kleidung.\nBirgit Hussel weiht in ca. 2 Std. alle Landratten in die Geheimnisse des Wattenmeeres ein. \nTeilnahme nur mit Anmeldung möglich.\nKarten an den bekannten VVK-Stellen oder bequem unter Sylt.de online.\nWeitere Informationen in der Geschäftsstelle der Sölring Foriining \nTeilnahme nur mit Anmeldung möglich. Karten an den bekannten VVK-Stellen oder bequem unter Sylt.de online.\nDATUM 4. August 10:30 – 12:30 Uhr\nKOSTEN Erwachsene 13 Euro\, Kinder 8 Euro | Mitglieder der Sölring Foriining kostenfrei.\nTreffpunkt: Vor dem Eingang der historischen Anlage Naturpfad Vogelkoje Kampen zwischen Kampen und List.\nInformationen 04651/32805 oder info@soelring-foriining.de
URL:https://soelring-museen.de/termin/sinnliche-wattwanderung-4-8-26/
LOCATION:Naturpfad Vogelkoje Kampen\, Lister Straße 100\, Kampen\, 25999
CATEGORIES:Führung
ATTACH;FMTTYPE=image/jpeg:https://soelring-museen.de/wp-content/uploads/2025/04/5535_image_2019-wattwanderung-hussel-soelring-foriining.jpg
ORGANIZER;CN="S%C3%B6lring Foriining":MAILTO:info@soelring-foriining.de
END:VEVENT
BEGIN:VEVENT
DTSTART;TZID=Europe/Berlin:20260805T110000
DTEND;TZID=Europe/Berlin:20260805T130000
DTSTAMP:20260419T163351
CREATED:20260109T092835Z
LAST-MODIFIED:20260109T092848Z
UID:7528-1785927600-1785934800@soelring-museen.de
SUMMARY:Sinnliche Wattwanderung
DESCRIPTION:Ein sinnliches Erlebnis – Auch für Landratten!\nWattwanderungen am Naturpfad Vogelkoje Kampen – ein sinnliches Erlebnis\, bei dem man das Watt\nfühlen\, riechen\, sehen und schmecken kann.\nDie Wanderung findet bei jedem Wetter außer bei Sturm und Gewitter statt.\nGummistiefel oder wasserfeste Schuhe sind mitzubringen\, ebenso dem Wetter entsprechende Kleidung.\nBirgit Hussel weiht in ca. 2 Std. alle Landratten in die Geheimnisse des Wattenmeeres ein. \nTeilnahme nur mit Anmeldung möglich.\nKarten an den bekannten VVK-Stellen oder bequem unter Sylt.de online.\nWeitere Informationen in der Geschäftsstelle der Sölring Foriining \nTeilnahme nur mit Anmeldung möglich. Karten an den bekannten VVK-Stellen oder bequem unter Sylt.de online.\nDATUM 5. August 11:00 – 13:00 Uhr\nKOSTEN Erwachsene 13 Euro\, Kinder 8 Euro | Mitglieder der Sölring Foriining kostenfrei.\nTreffpunkt: Vor dem Eingang der historischen Anlage Naturpfad Vogelkoje Kampen zwischen Kampen und List.\nInformationen 04651/32805 oder info@soelring-foriining.de
URL:https://soelring-museen.de/termin/sinnliche-wattwanderung-5-8-26/
LOCATION:Naturpfad Vogelkoje Kampen\, Lister Straße 100\, Kampen\, 25999
CATEGORIES:Führung
ATTACH;FMTTYPE=image/jpeg:https://soelring-museen.de/wp-content/uploads/2025/04/5535_image_2019-wattwanderung-hussel-soelring-foriining.jpg
ORGANIZER;CN="S%C3%B6lring Foriining":MAILTO:info@soelring-foriining.de
END:VEVENT
BEGIN:VEVENT
DTSTART;TZID=Europe/Berlin:20260806T113000
DTEND;TZID=Europe/Berlin:20260806T133000
DTSTAMP:20260419T163351
CREATED:20260109T093043Z
LAST-MODIFIED:20260109T093205Z
UID:7533-1786015800-1786023000@soelring-museen.de
SUMMARY:Sinnliche Wattwanderung
DESCRIPTION:Ein sinnliches Erlebnis – Auch für Landratten!\nWattwanderungen am Naturpfad Vogelkoje Kampen – ein sinnliches Erlebnis\, bei dem man das Watt\nfühlen\, riechen\, sehen und schmecken kann.\nDie Wanderung findet bei jedem Wetter außer bei Sturm und Gewitter statt.\nGummistiefel oder wasserfeste Schuhe sind mitzubringen\, ebenso dem Wetter entsprechende Kleidung.\nBirgit Hussel weiht in ca. 2 Std. alle Landratten in die Geheimnisse des Wattenmeeres ein. \nTeilnahme nur mit Anmeldung möglich.\nKarten an den bekannten VVK-Stellen oder bequem unter Sylt.de online.\nWeitere Informationen in der Geschäftsstelle der Sölring Foriining \nTeilnahme nur mit Anmeldung möglich. Karten an den bekannten VVK-Stellen oder bequem unter Sylt.de online.\nDATUM 6. August 11:30 – 13:30 Uhr\nKOSTEN Erwachsene 13 Euro\, Kinder 8 Euro | Mitglieder der Sölring Foriining kostenfrei.\nTreffpunkt: Vor dem Eingang der historischen Anlage Naturpfad Vogelkoje Kampen zwischen Kampen und List.\nInformationen 04651/32805 oder info@soelring-foriining.de
URL:https://soelring-museen.de/termin/sinnliche-wattwanderung-6-8-26/
LOCATION:Naturpfad Vogelkoje Kampen\, Lister Straße 100\, Kampen\, 25999
CATEGORIES:Führung
ATTACH;FMTTYPE=image/jpeg:https://soelring-museen.de/wp-content/uploads/2025/04/5535_image_2019-wattwanderung-hussel-soelring-foriining.jpg
ORGANIZER;CN="S%C3%B6lring Foriining":MAILTO:info@soelring-foriining.de
END:VEVENT
BEGIN:VEVENT
DTSTART;TZID=Europe/Berlin:20260807T120000
DTEND;TZID=Europe/Berlin:20260807T140000
DTSTAMP:20260419T163351
CREATED:20260109T093143Z
LAST-MODIFIED:20260109T093143Z
UID:7535-1786104000-1786111200@soelring-museen.de
SUMMARY:Sinnliche Wattwanderung
DESCRIPTION:Ein sinnliches Erlebnis – Auch für Landratten!\nWattwanderungen am Naturpfad Vogelkoje Kampen – ein sinnliches Erlebnis\, bei dem man das Watt\nfühlen\, riechen\, sehen und schmecken kann.\nDie Wanderung findet bei jedem Wetter außer bei Sturm und Gewitter statt.\nGummistiefel oder wasserfeste Schuhe sind mitzubringen\, ebenso dem Wetter entsprechende Kleidung.\nBirgit Hussel weiht in ca. 2 Std. alle Landratten in die Geheimnisse des Wattenmeeres ein. \nTeilnahme nur mit Anmeldung möglich.\nKarten an den bekannten VVK-Stellen oder bequem unter Sylt.de online.\nWeitere Informationen in der Geschäftsstelle der Sölring Foriining \nTeilnahme nur mit Anmeldung möglich. Karten an den bekannten VVK-Stellen oder bequem unter Sylt.de online.\nDATUM 7. August 12:00 – 14:00 Uhr\nKOSTEN Erwachsene 13 Euro\, Kinder 8 Euro | Mitglieder der Sölring Foriining kostenfrei.\nTreffpunkt: Vor dem Eingang der historischen Anlage Naturpfad Vogelkoje Kampen zwischen Kampen und List.\nInformationen 04651/32805 oder info@soelring-foriining.de
URL:https://soelring-museen.de/termin/sinnliche-wattwanderung-7-8-26/
LOCATION:Naturpfad Vogelkoje Kampen\, Lister Straße 100\, Kampen\, 25999
CATEGORIES:Führung
ATTACH;FMTTYPE=image/jpeg:https://soelring-museen.de/wp-content/uploads/2025/04/5535_image_2019-wattwanderung-hussel-soelring-foriining.jpg
ORGANIZER;CN="S%C3%B6lring Foriining":MAILTO:info@soelring-foriining.de
END:VEVENT
BEGIN:VEVENT
DTSTART;TZID=Europe/Berlin:20260813T193000
DTEND;TZID=Europe/Berlin:20260813T203000
DTSTAMP:20260419T163351
CREATED:20260113T163546Z
LAST-MODIFIED:20260113T163546Z
UID:7571-1786649400-1786653000@soelring-museen.de
SUMMARY:Die Nordsee im Wandel: Risiken und Chancen
DESCRIPTION:Die Nordsee im Wandel: Risiken und Chancen\nProf. Dr. Maarten Boersma \nVortragsreihe Freundeskreis Sölring Museen | Flyer zur Vortragsreihe Freundeskreis Sölring Museen \nDATUM 13.08. 19:30 – 21:00 Uhr\nKOSTEN Erwachsene 10 Euro | Mitglieder der Sölring Foriining erhalten ermäßigten Eintritt (5 Euro/Person) | Mitglieder des Freundeskreis Sölring Museen erhalten freien Eintritt.\nVeranstaltungsort: Sylt Museum\, Am Kliff 19a\, 25980 Sylt / Keitum\nAnmeldung Karten gibt es im Vorverkauf | Restkarten an der Abendkasse\nInformationen freundeskreis@soelringmuseen.de
URL:https://soelring-museen.de/termin/nordsee-wandel-boersma-13-8-26/
LOCATION:Sylt Museum\, Am Kliff 19\, Sylt | Keitum\, 25980\, Deutschland
CATEGORIES:Vortrag
ATTACH;FMTTYPE=image/jpeg:https://soelring-museen.de/wp-content/uploads/2026/01/fksm_logo_rz.jpg
END:VEVENT
BEGIN:VEVENT
DTSTART;TZID=Europe/Berlin:20261006T190000
DTEND;TZID=Europe/Berlin:20261006T203000
DTSTAMP:20260419T163351
CREATED:20260225T105846Z
LAST-MODIFIED:20260402T092404Z
UID:7685-1791313200-1791318600@soelring-museen.de
SUMMARY:Lesung | Zwischen Sylt und Dithmarschen
DESCRIPTION:Zwischen Sylt und Dithmarschen. Erinnerungen an Boy Lornsen und Walter Jens\nIn dieser Lesung widmet sich der Autor Frank Trende zwei bedeutenden Persönlichkeiten der deutschen Literaturlandschaft: dem Kinder- und Jugendbuchautor Boy Lornsen und dem renommierten Schriftsteller und Rhetoriker Walter Jens.\nDie beiden Männer verband über Jahrzehnte hinweg eine tiefe Freundschaft. Ein zentraler Ankerpunkt dieser Verbindung war ihre gemeinsame Liebe zur schleswig-holsteinischen Westküste. Frank Trende nimmt uns mit auf eine biografische und geografische Reise entlang der Küste – von der Elbmündung bis hinauf nach Sylt. \nDie Publikation „Zwischen Sylt und Dithmarschen“ von Frank Trende ist mehr als nur eine biografische Skizze; es ist eine Hommage an eine besondere Freundschaft und an die raue\, inspirierende Landschaft Norddeutschlands und bietet trotz des kompakten Formats eine reiche Ausstattung\, die es zu einem wertvollen Sammlerstück für Literaturinteressierte macht. Für Liebhaber der schleswig-holsteinischen Literaturgeschichte und Fans von Boy Lornsen oder Walter Jens bietet dieses Heft einen intimen und liebevoll gestalteten Einblick. „Zwischen Sylt und Dithmarschen“ erschien als Heft 7 in der Edition MolenKieker und ist in unserem Museumsshop zu erwerben.\nFrank Trende wurde mit dem Dithmarscher Kulturpreis 2025 ausgezeichnet. \nDATUM: 06. Oktober 2026 um 19 Uhr\nKOSTEN: Spende\nTREFFPUNKT/ORT: Sylt Museum\, Am Kliff 19\, 25980 Sylt/Keitum
URL:https://soelring-museen.de/termin/trende-lornsen-jens-6-10-26/
LOCATION:Sylt Museum\, Am Kliff 19\, Sylt | Keitum\, 25980\, Deutschland
CATEGORIES:Lesung
ATTACH;FMTTYPE=image/jpeg:https://soelring-museen.de/wp-content/uploads/2026/02/trende-lornsen-jens.jpg
ORGANIZER;CN="S%C3%B6lring Museen":MAILTO:info@soelring-museen.de
END:VEVENT
BEGIN:VEVENT
DTSTART;TZID=Europe/Berlin:20261021T160000
DTEND;TZID=Europe/Berlin:20261021T170000
DTSTAMP:20260419T163351
CREATED:20260123T085250Z
LAST-MODIFIED:20260123T085250Z
UID:7640-1792598400-1792602000@soelring-museen.de
SUMMARY:Familienführung Altfriesisches Haus seit 1640
DESCRIPTION:Leben im Kapitänshaus – eine Familienführung durch das Altfriesische Haus seit 1640\nIn einem Sylter Kapitänshaus gibt es nicht nur spannende Geschichten zu entdecken\, sondern auch jede Menge Einblicke in das Leben der Sylter Kinder vor vielen Jahrzehnten. Wie war es wohl in einer Seefahrerfamilie und einem Kapitänshaus aufzuwachsen? Womit konnten die Bewohner Licht machen\, wenn es doch noch keine Strom gab? Wie wurde geheizt\, so ganz ohne Heizung? Dieses besondere Sylter Haus hat schon so viele Jahre auf dem Buckel. Auch wenn es schon sehr alt ist\, lassen sich viele Dinge und Geschichten finden\, die in unserem heutigen Alltag sehr aktuell ist.\nAnmeldung zwingend erforderlich. Zur Online Buchung \nDATUM 21. Oktober 2026 um 16 Uhr\nKOSTEN Museumseintritt zzgl. Führungsgebühr (EW 3 Euro\, Kinder 1\,50 Euro)\nTREFFPUNKT/ORT Altfriesisches Haus seit 1640\, Am Kliff 13\, 25980 Sylt / Keitum\nANMELDUNG Erforderlich – Vorverkauf unter www.sylt.de\nIm Rahmen der Familienwochen Sylt www.sylt.de/familienwochen
URL:https://soelring-museen.de/termin/familienfuehrung-altfriesisches-haus-21-10-2026/
LOCATION:Altfriesisches Haus seit 1640\, Am Kliff 13\, 25980 Sylt | Keitum\, 25980\, Deutschland
CATEGORIES:Führung
ATTACH;FMTTYPE=image/jpeg:https://soelring-museen.de/wp-content/uploads/2025/06/fuehrung-vogelkoje-sylt.jpg
END:VEVENT
BEGIN:VEVENT
DTSTART;TZID=Europe/Berlin:20261022T160000
DTEND;TZID=Europe/Berlin:20261022T170000
DTSTAMP:20260419T163351
CREATED:20260123T085425Z
LAST-MODIFIED:20260123T085445Z
UID:7642-1792684800-1792688400@soelring-museen.de
SUMMARY:Familienführung Altfriesisches Haus seit 1640
DESCRIPTION:Leben im Kapitänshaus – eine Familienführung durch das Altfriesische Haus seit 1640\nIn einem Sylter Kapitänshaus gibt es nicht nur spannende Geschichten zu entdecken\, sondern auch jede Menge Einblicke in das Leben der Sylter Kinder vor vielen Jahrzehnten. Wie war es wohl in einer Seefahrerfamilie und einem Kapitänshaus aufzuwachsen? Womit konnten die Bewohner Licht machen\, wenn es doch noch keine Strom gab? Wie wurde geheizt\, so ganz ohne Heizung? Dieses besondere Sylter Haus hat schon so viele Jahre auf dem Buckel. Auch wenn es schon sehr alt ist\, lassen sich viele Dinge und Geschichten finden\, die in unserem heutigen Alltag sehr aktuell ist.\nAnmeldung zwingend erforderlich. Zur Online Buchung \nDATUM 22. Oktober 2026 um 16 Uhr\nKOSTEN Museumseintritt zzgl. Führungsgebühr (EW 3 Euro\, Kinder 1\,50 Euro)\nTREFFPUNKT/ORT Altfriesisches Haus seit 1640\, Am Kliff 13\, 25980 Sylt / Keitum\nANMELDUNG Erforderlich – Vorverkauf unter www.sylt.de\nIm Rahmen der Familienwochen Sylt www.sylt.de/familienwochen
URL:https://soelring-museen.de/termin/familienfuehrung-altfriesisches-haus-22-10-2026/
LOCATION:Altfriesisches Haus seit 1640\, Am Kliff 13\, 25980 Sylt | Keitum\, 25980\, Deutschland
CATEGORIES:Führung
ATTACH;FMTTYPE=image/jpeg:https://soelring-museen.de/wp-content/uploads/2025/06/fuehrung-vogelkoje-sylt.jpg
END:VEVENT
END:VCALENDAR